BEGIN:VCALENDAR
VERSION:2.0
PRODID:-//HSS - ECPv6.15.9//NONSGML v1.0//EN
CALSCALE:GREGORIAN
METHOD:PUBLISH
X-WR-CALNAME:HSS
X-ORIGINAL-URL:https://hrvatski-savate-savez.hr
X-WR-CALDESC:Events for HSS
REFRESH-INTERVAL;VALUE=DURATION:PT1H
X-Robots-Tag:noindex
X-PUBLISHED-TTL:PT1H
BEGIN:VTIMEZONE
TZID:UTC
BEGIN:STANDARD
TZOFFSETFROM:+0000
TZOFFSETTO:+0000
TZNAME:UTC
DTSTART:20250101T000000
END:STANDARD
END:VTIMEZONE
BEGIN:VEVENT
DTSTART;VALUE=DATE:20260509
DTEND;VALUE=DATE:20260510
DTSTAMP:20260424T125222
CREATED:20260331T181604Z
LAST-MODIFIED:20260331T181604Z
UID:740-1778284800-1778371199@hrvatski-savate-savez.hr
SUMMARY:FLY OPEN – precombat\, combat i assaut – SV. I. ZELINA
DESCRIPTION:
URL:https://hrvatski-savate-savez.hr/?tribe_events=fly-open-precombat-combat-i-assaut-sv-i-zelina
END:VEVENT
BEGIN:VEVENT
DTSTART;VALUE=DATE:20260523
DTEND;VALUE=DATE:20260524
DTSTAMP:20260424T125222
CREATED:20260331T181643Z
LAST-MODIFIED:20260331T181643Z
UID:742-1779494400-1779580799@hrvatski-savate-savez.hr
SUMMARY:GAREŠNICA OPEN – svi uzrasti assaut – GAREŠNICA
DESCRIPTION:
URL:https://hrvatski-savate-savez.hr/?tribe_events=garesnica-open-svi-uzrasti-assaut-garesnica
END:VEVENT
BEGIN:VEVENT
DTSTART;VALUE=DATE:20260530
DTEND;VALUE=DATE:20260531
DTSTAMP:20260424T125222
CREATED:20260331T181711Z
LAST-MODIFIED:20260331T181711Z
UID:744-1780099200-1780185599@hrvatski-savate-savez.hr
SUMMARY:GENOVA OPEN – GENOVA
DESCRIPTION:
URL:https://hrvatski-savate-savez.hr/?tribe_events=genova-open-genova
END:VEVENT
BEGIN:VEVENT
DTSTART;VALUE=DATE:20260606
DTEND;VALUE=DATE:20260607
DTSTAMP:20260424T125222
CREATED:20260331T181758Z
LAST-MODIFIED:20260331T181758Z
UID:746-1780704000-1780790399@hrvatski-savate-savez.hr
SUMMARY:THERME OPEN – SLOVENIJA\, PODČETRTEK
DESCRIPTION:
URL:https://hrvatski-savate-savez.hr/?tribe_events=therme-open-slovenija-podcetrtek
END:VEVENT
BEGIN:VEVENT
DTSTART;VALUE=DATE:20260611
DTEND;VALUE=DATE:20260615
DTSTAMP:20260424T125222
CREATED:20260331T181844Z
LAST-MODIFIED:20260331T181844Z
UID:748-1781136000-1781481599@hrvatski-savate-savez.hr
SUMMARY:EUROPSKO JUNIORSKO PRVENSTVO ASSAUT – SLOVENIJA\, PODČETRTEK
DESCRIPTION:
URL:https://hrvatski-savate-savez.hr/?tribe_events=europsko-juniorsko-prvenstvo-assaut-slovenija-podcetrtek
END:VEVENT
BEGIN:VEVENT
DTSTART;VALUE=DATE:20260909
DTEND;VALUE=DATE:20260913
DTSTAMP:20260424T125222
CREATED:20260331T181921Z
LAST-MODIFIED:20260331T181921Z
UID:750-1788912000-1789257599@hrvatski-savate-savez.hr
SUMMARY:SVJETSKO PRVENSTVO ASSAUT – FRANCUSKA\, BOULOGNE-SUR-MER
DESCRIPTION:
URL:https://hrvatski-savate-savez.hr/?tribe_events=svjetsko-prvenstvo-assaut-francuska-boulogne-sur-mer
END:VEVENT
BEGIN:VEVENT
DTSTART;VALUE=DATE:20260924
DTEND;VALUE=DATE:20260928
DTSTAMP:20260424T125222
CREATED:20260331T181951Z
LAST-MODIFIED:20260331T181951Z
UID:752-1790208000-1790553599@hrvatski-savate-savez.hr
SUMMARY:24.-27.09. EUROPSKO PRVENSTVO COMBAT – JUNIORI/SENIORI – BUGARSKA\, PLOVDIV
DESCRIPTION:
URL:https://hrvatski-savate-savez.hr/?tribe_events=24-27-09-europsko-prvenstvo-combat-juniori-seniori-bugarska-plovdiv
END:VEVENT
BEGIN:VEVENT
DTSTART;VALUE=DATE:20261017
DTEND;VALUE=DATE:20261018
DTSTAMP:20260424T125222
CREATED:20260331T182020Z
LAST-MODIFIED:20260331T182020Z
UID:754-1792195200-1792281599@hrvatski-savate-savez.hr
SUMMARY:AUSTRIA BELT SVJETSKI KUP ZA KLUBOVE – precombat\, combat i assaut – AUSTRIJA\, WEIZ
DESCRIPTION:
URL:https://hrvatski-savate-savez.hr/?tribe_events=austria-belt-svjetski-kup-za-klubove-precombat-combat-i-assaut-austrija-weiz
END:VEVENT
BEGIN:VEVENT
DTSTART;VALUE=DATE:20261024
DTEND;VALUE=DATE:20261025
DTSTAMP:20260424T125222
CREATED:20260331T182046Z
LAST-MODIFIED:20260331T182046Z
UID:756-1792800000-1792886399@hrvatski-savate-savez.hr
SUMMARY:KUP HRVATSKE ASSAUT – kadeti - RUGVICA
DESCRIPTION:
URL:https://hrvatski-savate-savez.hr/?tribe_events=kup-hrvatske-assaut-kadeti-rugvica
END:VEVENT
BEGIN:VEVENT
DTSTART;VALUE=DATE:20261024
DTEND;VALUE=DATE:20261025
DTSTAMP:20260424T125222
CREATED:20260331T182136Z
LAST-MODIFIED:20260331T182136Z
UID:758-1792800000-1792886399@hrvatski-savate-savez.hr
SUMMARY:KUP HRVATSKE PRECOMBAT/COMBAT – RUGVICA
DESCRIPTION:
URL:https://hrvatski-savate-savez.hr/?tribe_events=kup-hrvatske-precombat-combat-rugvica
END:VEVENT
BEGIN:VEVENT
DTSTART;VALUE=DATE:20261107
DTEND;VALUE=DATE:20261108
DTSTAMP:20260424T125222
CREATED:20260331T182201Z
LAST-MODIFIED:20260331T182201Z
UID:760-1794009600-1794095999@hrvatski-savate-savez.hr
SUMMARY:KUP HRVATSKE ASSAUT – juniori/seniori - ZABOK
DESCRIPTION:
URL:https://hrvatski-savate-savez.hr/?tribe_events=kup-hrvatske-assaut-juniori-seniori-zabok
END:VEVENT
BEGIN:VEVENT
DTSTART;VALUE=DATE:20261128
DTEND;VALUE=DATE:20261129
DTSTAMP:20260424T125222
CREATED:20260331T182231Z
LAST-MODIFIED:20260331T182231Z
UID:762-1795824000-1795910399@hrvatski-savate-savez.hr
SUMMARY:DRAGON CHALLENGE – precombat\, combat i assaut - VARAŽDIN
DESCRIPTION:
URL:https://hrvatski-savate-savez.hr/?tribe_events=dragon-challenge-precombat-combat-i-assaut-varazdin
END:VEVENT
END:VCALENDAR